BEGIN:VCALENDAR
VERSION:2.0
PRODID:-//wp-events-plugin.com//6.6.4.4//EN
TZID:Europe/Vienna
X-WR-TIMEZONE:Europe/Vienna
BEGIN:VEVENT
UID:1@dynamograz.at
DTSTART;TZID=Europe/Vienna:20191119T170000
DTEND;TZID=Europe/Vienna:20191217T175000
DTSTAMP:20191122T102450Z
URL:https://dynamograz.at/events/kinderkurs-k1-karmeliterplatz-dienstag/
SUMMARY:Kinderkurs K1 - Karmeliterplatz Dienstag
DESCRIPTION:Dienstagskurs:\n\nKurstermine: 19.11./ 26.11./ 3.12./ 10.12./ 
 17.12.2019\n\nUhrzeit: Dienstag 17.00-17.50 Uhr\n\nKosten : 5 Einheiten: 
 60€\;
LOCATION:Eisbahn Karmeliterplatz\, Karmeliterplatz\, Graz\, Österreich
X-APPLE-STRUCTURED-LOCATION;VALUE=URI;X-ADDRESS=Karmeliterplatz\, Graz\, Ö
 sterreich;X-APPLE-RADIUS=100;X-TITLE=Eisbahn Karmeliterplatz:geo:0,0
END:VEVENT
BEGIN:VEVENT
UID:2@dynamograz.at
DTSTART;TZID=Europe/Vienna:20191120T170000
DTEND;TZID=Europe/Vienna:20191218T175000
DTSTAMP:20191122T102543Z
URL:https://dynamograz.at/events/kinderkurs-k2-karmeliterplatz-mittwoch/
SUMMARY:Kinderkurs K2 - Karmeliterplatz Mittwoch
DESCRIPTION:Mittwochskurs:\n\nKurstermine: 20.11./ 27.11./ 4.12./ 11.12./ 1
 8.12.2019\n\nUhrzeit: Mittwoch 17.00-17.50 Uhr\n\nKosten : 5 Einheiten: 
 60€\; 
LOCATION:Eisbahn Karmeliterplatz\, Karmeliterplatz\, Graz\, Österreich
X-APPLE-STRUCTURED-LOCATION;VALUE=URI;X-ADDRESS=Karmeliterplatz\, Graz\, Ö
 sterreich;X-APPLE-RADIUS=100;X-TITLE=Eisbahn Karmeliterplatz:geo:0,0
END:VEVENT
BEGIN:VTIMEZONE
TZID:Europe/Vienna
X-LIC-LOCATION:Europe/Vienna
BEGIN:STANDARD
DTSTART:20191027T020000
TZOFFSETFROM:+0200
TZOFFSETTO:+0100
TZNAME:CET
END:STANDARD
END:VTIMEZONE
END:VCALENDAR